BEGIN:VCALENDAR
VERSION:2.0
PRODID:-//Powerlifting America - ECPv6.15.17.1//NONSGML v1.0//EN
CALSCALE:GREGORIAN
METHOD:PUBLISH
X-WR-CALNAME:Powerlifting America
X-ORIGINAL-URL:http://52.43.137.150
X-WR-CALDESC:Events for Powerlifting America
REFRESH-INTERVAL;VALUE=DURATION:PT1H
X-Robots-Tag:noindex
X-PUBLISHED-TTL:PT1H
BEGIN:VTIMEZONE
TZID:America/New_York
BEGIN:DAYLIGHT
TZOFFSETFROM:-0500
TZOFFSETTO:-0400
TZNAME:EDT
DTSTART:20220313T070000
END:DAYLIGHT
BEGIN:STANDARD
TZOFFSETFROM:-0400
TZOFFSETTO:-0500
TZNAME:EST
DTSTART:20221106T060000
END:STANDARD
BEGIN:DAYLIGHT
TZOFFSETFROM:-0500
TZOFFSETTO:-0400
TZNAME:EDT
DTSTART:20230312T070000
END:DAYLIGHT
BEGIN:STANDARD
TZOFFSETFROM:-0400
TZOFFSETTO:-0500
TZNAME:EST
DTSTART:20231105T060000
END:STANDARD
BEGIN:DAYLIGHT
TZOFFSETFROM:-0500
TZOFFSETTO:-0400
TZNAME:EDT
DTSTART:20240310T070000
END:DAYLIGHT
BEGIN:STANDARD
TZOFFSETFROM:-0400
TZOFFSETTO:-0500
TZNAME:EST
DTSTART:20241103T060000
END:STANDARD
END:VTIMEZONE
BEGIN:VEVENT
DTSTART;VALUE=DATE:20230422
DTEND;VALUE=DATE:20230423
DTSTAMP:20260424T015322
CREATED:20230110T212502Z
LAST-MODIFIED:20230110T212502Z
UID:10001708-1682121600-1682207999@52.43.137.150
SUMMARY:Powerlifting America Queen City Classic
DESCRIPTION:Sanction #: 2023-OH-01 \nEvent Director:  Austin Waterwall and Madeline Fitch \nRegistration: Enter Here
URL:http://52.43.137.150/event/powerlifting-america-queen-city-classic/
LOCATION:The Academy of Sports Performance (ASP)\, 4385 Creek Rd\, Cincinnati\, OH\, 45241\, United States
CATEGORIES:PA
ATTACH;FMTTYPE=image/png:http://52.43.137.150/wp-content/uploads/2023/01/Queen-City-Classic-16x9-website.png
ORGANIZER;CN="Austin Waterwall":MAILTO:waterwam@miamioh.edu
END:VEVENT
END:VCALENDAR