BEGIN:VCALENDAR
VERSION:2.0
PRODID:-//Powerlifting America - ECPv6.15.17.1//NONSGML v1.0//EN
CALSCALE:GREGORIAN
METHOD:PUBLISH
X-ORIGINAL-URL:http://52.43.137.150
X-WR-CALDESC:Events for Powerlifting America
REFRESH-INTERVAL;VALUE=DURATION:PT1H
X-Robots-Tag:noindex
X-PUBLISHED-TTL:PT1H
BEGIN:VTIMEZONE
TZID:America/New_York
BEGIN:DAYLIGHT
TZOFFSETFROM:-0500
TZOFFSETTO:-0400
TZNAME:EDT
DTSTART:20220313T070000
END:DAYLIGHT
BEGIN:STANDARD
TZOFFSETFROM:-0400
TZOFFSETTO:-0500
TZNAME:EST
DTSTART:20221106T060000
END:STANDARD
BEGIN:DAYLIGHT
TZOFFSETFROM:-0500
TZOFFSETTO:-0400
TZNAME:EDT
DTSTART:20230312T070000
END:DAYLIGHT
BEGIN:STANDARD
TZOFFSETFROM:-0400
TZOFFSETTO:-0500
TZNAME:EST
DTSTART:20231105T060000
END:STANDARD
BEGIN:DAYLIGHT
TZOFFSETFROM:-0500
TZOFFSETTO:-0400
TZNAME:EDT
DTSTART:20240310T070000
END:DAYLIGHT
BEGIN:STANDARD
TZOFFSETFROM:-0400
TZOFFSETTO:-0500
TZNAME:EST
DTSTART:20241103T060000
END:STANDARD
END:VTIMEZONE
BEGIN:VEVENT
DTSTART;VALUE=DATE:20231028
DTEND;VALUE=DATE:20231029
DTSTAMP:20260423T161943
CREATED:20230613T042123Z
LAST-MODIFIED:20230613T042123Z
UID:10001744-1698451200-1698537599@52.43.137.150
SUMMARY:2023 Powerlifting America Buckeye Brawl
DESCRIPTION:Sanction #: 2023-OH-02 \nEvent Directors: Austin Waterwall & Madeline Fitch \nRegistration: Enter Here
URL:http://52.43.137.150/event/2023-powerlifting-america-buckeye-brawl/
LOCATION:The Academy of Sports Performance (ASP)\, 4385 Creek Rd\, Cincinnati\, OH\, 45241\, United States
CATEGORIES:PA
ORGANIZER;CN="Austin Waterwall":MAILTO:waterwam@miamioh.edu
END:VEVENT
END:VCALENDAR