BEGIN:VCALENDAR
VERSION:2.0
PRODID:-//Powerlifting America - ECPv6.15.17.1//NONSGML v1.0//EN
CALSCALE:GREGORIAN
METHOD:PUBLISH
X-WR-CALNAME:Powerlifting America
X-ORIGINAL-URL:http://52.43.137.150
X-WR-CALDESC:Events for Powerlifting America
REFRESH-INTERVAL;VALUE=DURATION:PT1H
X-Robots-Tag:noindex
X-PUBLISHED-TTL:PT1H
BEGIN:VTIMEZONE
TZID:America/New_York
BEGIN:DAYLIGHT
TZOFFSETFROM:-0500
TZOFFSETTO:-0400
TZNAME:EDT
DTSTART:20230312T070000
END:DAYLIGHT
BEGIN:STANDARD
TZOFFSETFROM:-0400
TZOFFSETTO:-0500
TZNAME:EST
DTSTART:20231105T060000
END:STANDARD
BEGIN:DAYLIGHT
TZOFFSETFROM:-0500
TZOFFSETTO:-0400
TZNAME:EDT
DTSTART:20240310T070000
END:DAYLIGHT
BEGIN:STANDARD
TZOFFSETFROM:-0400
TZOFFSETTO:-0500
TZNAME:EST
DTSTART:20241103T060000
END:STANDARD
BEGIN:DAYLIGHT
TZOFFSETFROM:-0500
TZOFFSETTO:-0400
TZNAME:EDT
DTSTART:20250309T070000
END:DAYLIGHT
BEGIN:STANDARD
TZOFFSETFROM:-0400
TZOFFSETTO:-0500
TZNAME:EST
DTSTART:20251102T060000
END:STANDARD
END:VTIMEZONE
BEGIN:VEVENT
DTSTART;VALUE=DATE:20240217
DTEND;VALUE=DATE:20240218
DTSTAMP:20260423T102019
CREATED:20230613T042919Z
LAST-MODIFIED:20230613T042919Z
UID:10001745-1708128000-1708214399@52.43.137.150
SUMMARY:Powerlifting America Queen City Classic II
DESCRIPTION:Sanction #: 2024-OH-01 \nEvent Directors: Austin Waterwall & Madeline Fitch \nRegistration: Enter Here
URL:http://52.43.137.150/event/powerlifting-america-queen-city-classic-ii/
LOCATION:The Academy of Sports Performance (ASP)\, 4385 Creek Rd\, Cincinnati\, OH\, 45241\, United States
CATEGORIES:PA
ORGANIZER;CN="Austin Waterwall":MAILTO:waterwam@miamioh.edu
END:VEVENT
END:VCALENDAR